{"text_format":"1","workbook":"xlsx","n_sheets":2,"sheets":["Report","Report rearranged"],"not_rendered":{"charts":0,"images":1,"macros":1,"external_links":0,"defined_names":2,"comments":0,"pivot_tables":0},"unopened":[],"bounds":{"document_bytes":16777216,"sheet_cells":100000,"rows_first":2000,"rows_last":500,"rows_between":2000,"halvings":0,"cell_chars":16384,"cell_head_chars":4096},"cells_cut":0,"cells_raw":0,"read":"whole","date_system":"1900"}

{"sheet":"Report","index":0,"n_rows":23,"n_cols":10,"rows_kept":23,"cut":false,"hidden":false,"merged":[]}
[]
[null,"Calypso Measuring Result"]
[]
[null,"Measurement Plan",null,"Date",null,"Order"]
[null,"FC-Transition Rev2",null,"2002-10-17",null," "]
[]
[null,"Drawing No.",null,"Time",null,"Part No."]
[null," drawing",null,"13:15:10",null,51]
[]
[null,"Operator",null,"CMM"]
[null,"Master"]
[]
["Characteristic","Actual","Nominal","Upper Tol","Lower Tol","Deviation","X-Value","Y-Value","Z-Value","No.#"]
["1 Distance 1 Y"]
["2 Y Value…."]
["7,8,4 True Position_Circle10"]
["7,8,4 True Position_Circle10.X"]
["7,8,4 True Position_Circle10.Y"]
["11 Z Value_Plane18"]
["12,16,9 True Position_Circle20"]
["12,16,9 True Position_Circle20.X"]
["12,16,9 True Position_Circle20.Z"]
["14 Z Value_Plane6"]

{"sheet":"Report rearranged","index":1,"n_rows":23,"n_cols":10,"rows_kept":23,"cut":false,"hidden":false,"merged":[]}
[{"$f":"Report!A1","v":0},{"$f":"Report!B1","v":0},{"$f":"Report!C1","v":0},{"$f":"Report!D1","v":0},{"$f":"Report!E1","v":0},{"$f":"Report!F1","v":0},{"$f":"Report!G1","v":0},{"$f":"Report!H1","v":0},{"$f":"Report!I1","v":0},{"$f":"Report!J1","v":0}]
[{"$f":"Report!A2","v":0},{"$f":"Report!B2","v":"Calypso Measuring Result"},{"$f":"Report!C2","v":0},{"$f":"Report!D2","v":0},{"$f":"Report!E2","v":0},{"$f":"Report!F2","v":0},{"$f":"Report!G2","v":0},{"$f":"Report!H2","v":0},{"$f":"Report!I2","v":0},{"$f":"Report!J2","v":0}]
[{"$f":"Report!A3","v":0},{"$f":"Report!B3","v":0},{"$f":"Report!C3","v":0},{"$f":"Report!D3","v":0},{"$f":"Report!E3","v":0},{"$f":"Report!F3","v":0},{"$f":"Report!G3","v":0},{"$f":"Report!H3","v":0},{"$f":"Report!I3","v":0},{"$f":"Report!J3","v":0}]
[{"$f":"Report!A4","v":0},{"$f":"Report!B4","v":"Measurement Plan"},{"$f":"Report!C4","v":0},{"$f":"Report!D4","v":"Date"},{"$f":"Report!E4","v":0},{"$f":"Report!F4","v":"Order"},{"$f":"Report!G4","v":0},{"$f":"Report!H4","v":0},{"$f":"Report!I4","v":0},{"$f":"Report!J4","v":0}]
[{"$f":"Report!A5","v":0},{"$f":"Report!B5","v":"FC-Transition Rev2"},{"$f":"Report!C5","v":0},{"$f":"Report!D5","v":"2002-10-17"},{"$f":"Report!E5","v":0},{"$f":"Report!F5","v":" "},{"$f":"Report!G5","v":0},{"$f":"Report!H5","v":0},{"$f":"Report!I5","v":0},{"$f":"Report!J5","v":0}]
[{"$f":"Report!A6","v":0},{"$f":"Report!B6","v":0},{"$f":"Report!C6","v":0},{"$f":"Report!D6","v":0},{"$f":"Report!E6","v":0},{"$f":"Report!F6","v":"00:00:00"},{"$f":"Report!G6","v":0},{"$f":"Report!H6","v":0},{"$f":"Report!I6","v":0},{"$f":"Report!J6","v":0}]
[{"$f":"Report!A7","v":0},{"$f":"Report!B7","v":"Drawing No."},{"$f":"Report!C7","v":0},{"$f":"Report!D7","v":"Time"},{"$f":"Report!E7","v":0},{"$f":"Report!F7","v":"Part No."},{"$f":"Report!G7","v":0},{"$f":"Report!H7","v":0},{"$f":"Report!I7","v":0},{"$f":"Report!J7","v":0}]
[{"$f":"Report!A8","v":0},{"$f":"Report!B8","v":" drawing"},{"$f":"Report!C8","v":0},{"$f":"Report!D8","v":"13:15:10"},{"$f":"Report!E8","v":0},{"$f":"Report!F8","v":51},{"$f":"Report!G8","v":0},{"$f":"Report!H8","v":0},{"$f":"Report!I8","v":0},{"$f":"Report!J8","v":0}]
[{"$f":"Report!A9","v":0},{"$f":"Report!B9","v":0},{"$f":"Report!C9","v":0},{"$f":"Report!D9","v":0},{"$f":"Report!E9","v":0},{"$f":"Report!F9","v":0},{"$f":"Report!G9","v":0},{"$f":"Report!H9","v":0},{"$f":"Report!I9","v":0},{"$f":"Report!J9","v":0}]
[{"$f":"Report!A10","v":0},{"$f":"Report!B10","v":"Operator"},{"$f":"Report!C10","v":0},{"$f":"Report!D10","v":"CMM"},{"$f":"Report!E10","v":0},{"$f":"Report!F10","v":0},{"$f":"Report!G10","v":0},{"$f":"Report!H10","v":0},{"$f":"Report!I10","v":0},{"$f":"Report!J10","v":0}]
[{"$f":"Report!A11","v":0},{"$f":"Report!B11","v":"Master"},{"$f":"Report!C11","v":0},{"$f":"Report!D11","v":0},{"$f":"Report!E11","v":0},{"$f":"Report!F11","v":0},{"$f":"Report!G11","v":0},{"$f":"Report!H11","v":0},{"$f":"Report!I11","v":0},{"$f":"Report!J11","v":0}]
[{"$f":"Report!A12","v":0},{"$f":"Report!B12","v":0},{"$f":"Report!C12","v":0},{"$f":"Report!D12","v":0},{"$f":"Report!E12","v":0},{"$f":"Report!F12","v":0},{"$f":"Report!G12","v":0},{"$f":"Report!H12","v":0},{"$f":"Report!I12","v":0},{"$f":"Report!J12","v":0}]
["Characteristics","Actual","Nominal","Upper Tol","Lower Tol","Deviation","X-Value","Y-Value","Z-Value","No#"]
["1 Distance 1 Y",null,null,null,null,null,null,null,null,1]
["2 Y Value….",null,null,null,null,null,null,null,null,2]
["4 True Position_Circle10.Y",null,null,null,null,null,null,"Y",null,4]
["7 True Position_Circle10",null,null,null,null,null,null,null,null,7]
["8 True Position_Circle10.X",null,null,null,null,null,"X",null,null,8]
["9 True Position_Circle20.Z",null,null,null,null,null,null,null,"Z",9]
["11 Z Value_Plane18",null,null,null,null,null,null,null,null,11]
["12 True Position_Circle20",null,null,null,null,null,null,null,null,12]
["14 Z Value_Plane6",null,null,null,null,null,null,null,null,14]
["16 True Position_Circle20.X",null,null,null,null,null,"X",null,null,16]